BEGIN:VCALENDAR
VERSION:2.0
PRODID:-//QLD Early Motorcycle Sports Club - ECPv6.0.6.1//NONSGML v1.0//EN
CALSCALE:GREGORIAN
METHOD:PUBLISH
X-WR-CALNAME:QLD Early Motorcycle Sports Club
X-ORIGINAL-URL:https://www.qemsc.com.au
X-WR-CALDESC:Events for QLD Early Motorcycle Sports Club
REFRESH-INTERVAL;VALUE=DURATION:PT1H
X-Robots-Tag:noindex
X-PUBLISHED-TTL:PT1H
BEGIN:VTIMEZONE
TZID:UTC
BEGIN:STANDARD
TZOFFSETFROM:+0000
TZOFFSETTO:+0000
TZNAME:UTC
DTSTART:20230101T000000
END:STANDARD
END:VTIMEZONE
BEGIN:VEVENT
DTSTART;TZID=UTC:20230919T070000
DTEND;TZID=UTC:20230921T170000
DTSTAMP:20260421T191105
CREATED:20230728T210831Z
LAST-MODIFIED:20230925T094156Z
UID:830-1695106800-1695315600@www.qemsc.com.au
SUMMARY:2023 Wynnum Marine QLD Historic Road Racing Championships
DESCRIPTION:QEMSC will be hosting the QLD Historic Road Racing Titles (QHRRC) for the 4th year in a row at Morgan Park raceway. \n\n\n\nThis year we will be running the shorter ‘E’ layout of the circuit for and Champion’s Ride Days will be hosting a track day on the layout for practice on the 19th September. (Champions Ride Days entry: https://championsridedays.com.au/product/morgan-park-raceway-qemsc-race-practice/) \n\n\n\nOpen to all solo and sidecars from Period 2 – Period 6 that are log booked or can show proof of a log book application being made to MA. \n\n\n\nThere will be a combined capacity grid of new Period 7 (as per PCRA of NSW Pre Modern) machines in preparation for the introduction of that class next year too. \n\n\n\nWynnum Marine has a beautiful little roof top tinnie with yamaha outboard engine as a raffle prize. Only 500 tickets available at $10 each ! \n\n\n\nPhotos from the event: \n\n\n\nAlan Mcintosh photos here \n\n\n\nJeff Basely Photos here \n\n\n\nMotothing photos of the track day here \n\n\n\nRace Results on Speedhive here \n\n\n2023-QHRRC-Programme_compressed
URL:https://www.qemsc.com.au/event/2023-wynnum-marine-qld-historic-road-racing-championships/
END:VEVENT
BEGIN:VEVENT
DTSTART;TZID=UTC:20240420T080000
DTEND;TZID=UTC:20240421T170000
DTSTAMP:20260421T191105
CREATED:20240415T191426Z
LAST-MODIFIED:20240415T191634Z
UID:866-1713600000-1713718800@www.qemsc.com.au
SUMMARY:2024 Carnell Classic
DESCRIPTION:Period 2 – Period 7 solos and sidecars\, along with the buckets and motards. \n\n\n\n\n\n\n\n\nCarnell-Classic-final-Instructions\n \n\n\n\n\n24-Carnell-Classic-Program
URL:https://www.qemsc.com.au/event/2024-carnell-classic/
LOCATION:Carnell Raceway\, Stanthorpe
END:VEVENT
BEGIN:VEVENT
DTSTART;TZID=UTC:20240720T080000
DTEND;TZID=UTC:20240721T170000
DTSTAMP:20260421T191105
CREATED:20240415T192159Z
LAST-MODIFIED:20240716T194607Z
UID:878-1721462400-1721581200@www.qemsc.com.au
SUMMARY:2024 Big Chill
DESCRIPTION:Period 2 – Period 7 Solos and Sidecars\, along with buckets and motards \n\n\n\n**** Big Chill Entries Open ***** \n\n\n\nEntries are now open and will close 7th July. \n\n\n\nhttps://ridernet.com.au/eventView/?e=1867537 \n\n\n\nWe will be having the Christmas in July dinner on the Saturday night in town. Israel Suarez has been in contact with the people who have indicated they’d like to attend regarding payment. \n\n\n\nClub polos will be out there for collection\, along with some nice event merchandise too. \n\n\n\nThis is the 3rd point scoring event for the Warley Consultancy South East QLD Cup – Period 6 250cc and 500cc motorcycle race series. The championship is tight ! \n\n\n\nFeature races are the King/Queen of the Chill\, Bike and Rider over 100 yrs and the awarding of the perpetual Brass Monkey trophy. This year it will be for the highest point scoring Period 3 (last year it was Period 2 and won by Guy Evergreen Vickerman) \n\n\n2024-Big-Chill-Programme-2\n \n\n\nBig-Chill-final-Instructions
URL:https://www.qemsc.com.au/event/2024-big-chill/
END:VEVENT
BEGIN:VEVENT
DTSTART;TZID=UTC:20250301T000000
DTEND;TZID=UTC:20250302T235959
DTSTAMP:20260421T191105
CREATED:20250116T083651Z
LAST-MODIFIED:20250116T083653Z
UID:913-1740787200-1740959999@www.qemsc.com.au
SUMMARY:2025 Test and Tune
DESCRIPTION:2 Days of Testing and Tuning bikes and sidecars \n\n\n\nIncluding the “Come and Try” sessions for sidecar passengers. \n\n\n\nEntries will soon be open on ridernet
URL:https://www.qemsc.com.au/event/2025-test-and-tune/
END:VEVENT
BEGIN:VEVENT
DTSTART;TZID=UTC:20250411T000000
DTEND;TZID=UTC:20250413T235959
DTSTAMP:20260421T191105
CREATED:20250116T084250Z
LAST-MODIFIED:20250306T032023Z
UID:919-1744329600-1744588799@www.qemsc.com.au
SUMMARY:2025 Carnell Classic
DESCRIPTION:Period 2 – Period 7 solos and sidecars\, along with the buckets\, mini twins and motards. \n\n\n\nEntries on ridernet now! \n\n\n\nENTER HERE
URL:https://www.qemsc.com.au/event/2025-carnell-classic/
LOCATION:Carnell Raceway\, Rifle Range Rd\, Stanthorpe\, Queensland\, Australia
ATTACH;FMTTYPE=image/png:https://www.qemsc.com.au/wp-content/uploads/2025/01/Carnell-classic-cover.png
END:VEVENT
BEGIN:VEVENT
DTSTART;TZID=UTC:20250705T000000
DTEND;TZID=UTC:20250706T235959
DTSTAMP:20260421T191105
CREATED:20250116T084505Z
LAST-MODIFIED:20250116T084507Z
UID:921-1751673600-1751846399@www.qemsc.com.au
SUMMARY:2025 Big Chill
DESCRIPTION:Period 2 – Period 7 Solos and Sidecars\, along with buckets\, mini twins and motards \n\n\n\nEntry details TBA
URL:https://www.qemsc.com.au/event/2025-big-chill/
LOCATION:Carnell Raceway\, Rifle Range Rd\, Stanthorpe\, Queensland\, Australia
END:VEVENT
BEGIN:VEVENT
DTSTART;TZID=UTC:20250909T000000
DTEND;TZID=UTC:20250911T235959
DTSTAMP:20260421T191105
CREATED:20250116T084722Z
LAST-MODIFIED:20250914T234952Z
UID:923-1757376000-1757635199@www.qemsc.com.au
SUMMARY:2025 QLD Historic Road Racing Titles
DESCRIPTION:The titles have been run and won in varying weather conditions over the 2 days. \n\n\n\nA strong field of both local and interstate riders made the event the biggest yet\, and one for all competitors and spectators to remember for a long time. \n\n\n\nResults link here: https://speedhive.mylaps.com/events/3213459 \n\n\n\nJB Photos for purchase here: Link to gallery \n\n\n\nAlan Macintosh Phots here: Link to gallery \n\n\n645658_Race-report-
URL:https://www.qemsc.com.au/event/qld-historic-road-racing-titles/
LOCATION:Morgan Park Raceway\, Warwick\, Queensland\, Australia
END:VEVENT
BEGIN:VEVENT
DTSTART;TZID=UTC:20260411T070000
DTEND;TZID=UTC:20260412T170000
DTSTAMP:20260421T191105
CREATED:20251126T084055Z
LAST-MODIFIED:20251126T094404Z
UID:951-1775890800-1776013200@www.qemsc.com.au
SUMMARY:2026 Condamine Classic
DESCRIPTION:At Morgan Park\, Warwick. \n\n\n\nAll Historic Classes up to Period 7 Solos and Sidecars. \n\n\n\nNon Competitive Sessions. \n\n\n\nSEQ Cup Round.
URL:https://www.qemsc.com.au/event/2026-condamine-classic/
END:VEVENT
BEGIN:VEVENT
DTSTART;TZID=UTC:20260711T070000
DTEND;TZID=UTC:20260712T170000
DTSTAMP:20260421T191105
CREATED:20251126T092035Z
LAST-MODIFIED:20251126T094305Z
UID:955-1783753200-1783875600@www.qemsc.com.au
SUMMARY:2026 Big Chill
DESCRIPTION:At Morgan Park\, Warwick. \n\n\n\nAll historic classes to Period 7 Solos and Sidecars. \n\n\n\nNon Competitive Sessions. \n\n\n\nSEQ Cup Round.
URL:https://www.qemsc.com.au/event/2026-big-chill/
END:VEVENT
BEGIN:VEVENT
DTSTART;TZID=UTC:20260908T070000
DTEND;TZID=UTC:20260910T170000
DTSTAMP:20260421T191106
CREATED:20251126T092545Z
LAST-MODIFIED:20251126T094108Z
UID:958-1788850800-1789059600@www.qemsc.com.au
SUMMARY:2026 QLD Historic Road Race Championship
DESCRIPTION:At Morgan Park\, Warwick. \n\n\n\n\n\nAll Historic Classes to Period 7 Solos and Sidecars
URL:https://www.qemsc.com.au/event/2026-qld-historic-road-race-championship/
END:VEVENT
END:VCALENDAR